BEGIN:VCALENDAR
VERSION:2.0
PRODID:-//Village of Arlington - ECPv6.15.12.2//NONSGML v1.0//EN
CALSCALE:GREGORIAN
METHOD:PUBLISH
X-WR-CALNAME:Village of Arlington
X-ORIGINAL-URL:https://vi.arlington.wi.gov
X-WR-CALDESC:Events for Village of Arlington
REFRESH-INTERVAL;VALUE=DURATION:PT1H
X-Robots-Tag:noindex
X-PUBLISHED-TTL:PT1H
BEGIN:VTIMEZONE
TZID:America/Chicago
BEGIN:DAYLIGHT
TZOFFSETFROM:-0600
TZOFFSETTO:-0500
TZNAME:CDT
DTSTART:20240310T080000
END:DAYLIGHT
BEGIN:STANDARD
TZOFFSETFROM:-0500
TZOFFSETTO:-0600
TZNAME:CST
DTSTART:20241103T070000
END:STANDARD
BEGIN:DAYLIGHT
TZOFFSETFROM:-0600
TZOFFSETTO:-0500
TZNAME:CDT
DTSTART:20250309T080000
END:DAYLIGHT
BEGIN:STANDARD
TZOFFSETFROM:-0500
TZOFFSETTO:-0600
TZNAME:CST
DTSTART:20251102T070000
END:STANDARD
BEGIN:DAYLIGHT
TZOFFSETFROM:-0600
TZOFFSETTO:-0500
TZNAME:CDT
DTSTART:20260308T080000
END:DAYLIGHT
BEGIN:STANDARD
TZOFFSETFROM:-0500
TZOFFSETTO:-0600
TZNAME:CST
DTSTART:20261101T070000
END:STANDARD
END:VTIMEZONE
BEGIN:VEVENT
DTSTART;VALUE=DATE:20250202
DTEND;VALUE=DATE:20250203
DTSTAMP:20260421T030058
CREATED:20240910T204344Z
LAST-MODIFIED:20240910T204344Z
UID:10002830-1738454400-1738540799@vi.arlington.wi.gov
SUMMARY:Ella Meixner
DESCRIPTION:
URL:https://vi.arlington.wi.gov/event/ella-meixner/
CATEGORIES:Hall Rentals
END:VEVENT
BEGIN:VEVENT
DTSTART;TZID=America/Chicago:20250206T180000
DTEND;TZID=America/Chicago:20250206T200000
DTSTAMP:20260421T030058
CREATED:20240910T203902Z
LAST-MODIFIED:20240910T203902Z
UID:10002812-1738864800-1738872000@vi.arlington.wi.gov
SUMMARY:Clogging
DESCRIPTION:
URL:https://vi.arlington.wi.gov/event/clogging-3/2025-02-06/
CATEGORIES:Hall Rentals
END:VEVENT
BEGIN:VEVENT
DTSTART;TZID=America/Chicago:20250206T180000
DTEND;TZID=America/Chicago:20250508T200000
DTSTAMP:20260421T030058
CREATED:20240910T203657Z
LAST-MODIFIED:20240910T203657Z
UID:10002811-1738864800-1746734400@vi.arlington.wi.gov
SUMMARY:Clogging
DESCRIPTION:
URL:https://vi.arlington.wi.gov/event/clogging-2/
CATEGORIES:Hall Rentals
END:VEVENT
BEGIN:VEVENT
DTSTART;TZID=America/Chicago:20250212T180000
DTEND;TZID=America/Chicago:20250212T190000
DTSTAMP:20260421T030058
CREATED:20240604T171935Z
LAST-MODIFIED:20240604T171935Z
UID:10001722-1739383200-1739386800@vi.arlington.wi.gov
SUMMARY:Town Board Meeting
DESCRIPTION:
URL:https://vi.arlington.wi.gov/event/town-board-meeting-4/2025-02-12/
CATEGORIES:Meetings
END:VEVENT
BEGIN:VEVENT
DTSTART;VALUE=DATE:20250213
DTEND;VALUE=DATE:20250214
DTSTAMP:20260421T030058
CREATED:20240910T203947Z
LAST-MODIFIED:20240910T204020Z
UID:10002826-1739404800-1739491199@vi.arlington.wi.gov
SUMMARY:Curling Club
DESCRIPTION:Curling Club
URL:https://vi.arlington.wi.gov/event/booked-14/
CATEGORIES:Hall Rentals
END:VEVENT
BEGIN:VEVENT
DTSTART;TZID=America/Chicago:20250213T180000
DTEND;TZID=America/Chicago:20250213T200000
DTSTAMP:20260421T030058
CREATED:20240910T203902Z
LAST-MODIFIED:20240910T203902Z
UID:10002813-1739469600-1739476800@vi.arlington.wi.gov
SUMMARY:Clogging
DESCRIPTION:
URL:https://vi.arlington.wi.gov/event/clogging-3/2025-02-13/
CATEGORIES:Hall Rentals
END:VEVENT
BEGIN:VEVENT
DTSTART;VALUE=DATE:20250214
DTEND;VALUE=DATE:20250215
DTSTAMP:20260421T030058
CREATED:20240910T204057Z
LAST-MODIFIED:20240910T204057Z
UID:10002827-1739491200-1739577599@vi.arlington.wi.gov
SUMMARY:Curling Club
DESCRIPTION:
URL:https://vi.arlington.wi.gov/event/curling-club/
CATEGORIES:Hall Rentals
END:VEVENT
BEGIN:VEVENT
DTSTART;VALUE=DATE:20250215
DTEND;VALUE=DATE:20250216
DTSTAMP:20260421T030058
CREATED:20240910T204146Z
LAST-MODIFIED:20240910T204146Z
UID:10002828-1739577600-1739663999@vi.arlington.wi.gov
SUMMARY:Curling Club
DESCRIPTION:
URL:https://vi.arlington.wi.gov/event/curling-club-2/
CATEGORIES:Hall Rentals
END:VEVENT
BEGIN:VEVENT
DTSTART;VALUE=DATE:20250216
DTEND;VALUE=DATE:20250217
DTSTAMP:20260421T030058
CREATED:20240910T204222Z
LAST-MODIFIED:20240910T204222Z
UID:10002829-1739664000-1739750399@vi.arlington.wi.gov
SUMMARY:Curling Club
DESCRIPTION:
URL:https://vi.arlington.wi.gov/event/curling-club-3/
CATEGORIES:Hall Rentals
END:VEVENT
BEGIN:VEVENT
DTSTART;TZID=America/Chicago:20250220T180000
DTEND;TZID=America/Chicago:20250220T200000
DTSTAMP:20260421T030058
CREATED:20240910T203902Z
LAST-MODIFIED:20240910T203902Z
UID:10002814-1740074400-1740081600@vi.arlington.wi.gov
SUMMARY:Clogging
DESCRIPTION:
URL:https://vi.arlington.wi.gov/event/clogging-3/2025-02-20/
CATEGORIES:Hall Rentals
END:VEVENT
BEGIN:VEVENT
DTSTART;TZID=America/Chicago:20250227T180000
DTEND;TZID=America/Chicago:20250227T200000
DTSTAMP:20260421T030058
CREATED:20240910T203902Z
LAST-MODIFIED:20240910T203902Z
UID:10002815-1740679200-1740686400@vi.arlington.wi.gov
SUMMARY:Clogging
DESCRIPTION:
URL:https://vi.arlington.wi.gov/event/clogging-3/2025-02-27/
CATEGORIES:Hall Rentals
END:VEVENT
END:VCALENDAR