BEGIN:VCALENDAR
VERSION:2.0
PRODID:-//Village of Arlington - ECPv6.15.12.2//NONSGML v1.0//EN
CALSCALE:GREGORIAN
METHOD:PUBLISH
X-WR-CALNAME:Village of Arlington
X-ORIGINAL-URL:https://vi.arlington.wi.gov
X-WR-CALDESC:Events for Village of Arlington
REFRESH-INTERVAL;VALUE=DURATION:PT1H
X-Robots-Tag:noindex
X-PUBLISHED-TTL:PT1H
BEGIN:VTIMEZONE
TZID:America/Chicago
BEGIN:DAYLIGHT
TZOFFSETFROM:-0600
TZOFFSETTO:-0500
TZNAME:CDT
DTSTART:20240310T080000
END:DAYLIGHT
BEGIN:STANDARD
TZOFFSETFROM:-0500
TZOFFSETTO:-0600
TZNAME:CST
DTSTART:20241103T070000
END:STANDARD
BEGIN:DAYLIGHT
TZOFFSETFROM:-0600
TZOFFSETTO:-0500
TZNAME:CDT
DTSTART:20250309T080000
END:DAYLIGHT
BEGIN:STANDARD
TZOFFSETFROM:-0500
TZOFFSETTO:-0600
TZNAME:CST
DTSTART:20251102T070000
END:STANDARD
BEGIN:DAYLIGHT
TZOFFSETFROM:-0600
TZOFFSETTO:-0500
TZNAME:CDT
DTSTART:20260308T080000
END:DAYLIGHT
BEGIN:STANDARD
TZOFFSETFROM:-0500
TZOFFSETTO:-0600
TZNAME:CST
DTSTART:20261101T070000
END:STANDARD
END:VTIMEZONE
BEGIN:VEVENT
DTSTART;VALUE=DATE:20250812
DTEND;VALUE=DATE:20250813
DTSTAMP:20260420T113025
CREATED:20250812T145237Z
LAST-MODIFIED:20250812T145237Z
UID:10002975-1754956800-1755043199@vi.arlington.wi.gov
SUMMARY:Pulfus
DESCRIPTION:
URL:https://vi.arlington.wi.gov/event/pulfus/
CATEGORIES:Hall Rentals
END:VEVENT
BEGIN:VEVENT
DTSTART;TZID=America/Chicago:20250828T170000
DTEND;TZID=America/Chicago:20250828T200000
DTSTAMP:20260420T113025
CREATED:20250812T142915Z
LAST-MODIFIED:20250812T142915Z
UID:10002928-1756400400-1756411200@vi.arlington.wi.gov
SUMMARY:Clogging
DESCRIPTION:
URL:https://vi.arlington.wi.gov/event/clogging-4/2025-08-28/
CATEGORIES:Hall Rentals
END:VEVENT
END:VCALENDAR